BEGIN:VCALENDAR
METHOD:PUBLISH
PRODID:-//Weblication CMS
VERSION:2.0
BEGIN:VEVENT
SUMMARY:Weingefühl
DTSTART:20230512T180000
DTEND:20230512T210000
DESCRIPTION:Woher kommen die Aromen im Wein? Was für Inhaltsstoffe hat der Wein? Welche Säure schmeckt wie sauer?
LOCATION:gust
UID:https://www.gustchur.ch/de/kurse/termine/Weingefuehl.php
URL:https://www.gustchur.ch/de/kurse/termine/Weingefuehl.php
END:VEVENT
BEGIN:VEVENT
SUMMARY:Weingefühl
DTSTART:20231020T180000
DTEND:20231020T210000
DESCRIPTION:Woher kommen die Aromen im Wein? Was für Inhaltsstoffe hat der Wein? Welche Säure schmeckt wie sauer?
LOCATION:gust
UID:https://www.gustchur.ch/de/kurse/termine/Weingefuehl.php
URL:https://www.gustchur.ch/de/kurse/termine/Weingefuehl.php
END:VEVENT
BEGIN:VEVENT
SUMMARY:Weingefühl
DTSTART:20240308T190000
DTEND:20240308T220000
DESCRIPTION:Woher kommen die Aromen im Wein? Was für Inhaltsstoffe hat der Wein? Welche Säure schmeckt wie sauer?
LOCATION:gust
UID:https://www.gustchur.ch/de/kurse/termine/Weingefuehl.php
URL:https://www.gustchur.ch/de/kurse/termine/Weingefuehl.php
END:VEVENT
BEGIN:VEVENT
SUMMARY:Weingefühl
DTSTART:20241101T190000
DTEND:20241101T220000
DESCRIPTION:Woher kommen die Aromen im Wein? Was für Inhaltsstoffe hat der Wein? Welche Säure schmeckt wie sauer?
LOCATION:gust
UID:https://www.gustchur.ch/de/kurse/termine/Weingefuehl.php
URL:https://www.gustchur.ch/de/kurse/termine/Weingefuehl.php
END:VEVENT
BEGIN:VEVENT
SUMMARY:Weingefühl
DTSTART:20250314T190000
DTEND:20250314T220000
DESCRIPTION:Woher kommen die Aromen im Wein? Was für Inhaltsstoffe hat der Wein? Welche Säure schmeckt wie sauer?
LOCATION:gust
UID:https://www.gustchur.ch/de/kurse/termine/Weingefuehl.php
URL:https://www.gustchur.ch/de/kurse/termine/Weingefuehl.php
END:VEVENT
BEGIN:VEVENT
SUMMARY:Weingefühl
DTSTART:20251022T190000
DTEND:20251022T220000
DESCRIPTION:Woher kommen die Aromen im Wein? Was für Inhaltsstoffe hat der Wein? Welche Säure schmeckt wie sauer?
LOCATION:gust
UID:https://www.gustchur.ch/de/kurse/termine/Weingefuehl.php
URL:https://www.gustchur.ch/de/kurse/termine/Weingefuehl.php
END:VEVENT
BEGIN:VEVENT
SUMMARY:Weingefühl
DTSTART:20260313T190000
DTEND:20260313T220000
DESCRIPTION:Woher kommen die Aromen im Wein? Was für Inhaltsstoffe hat der Wein? Welche Säure schmeckt wie sauer?
LOCATION:gust
UID:https://www.gustchur.ch/de/kurse/termine/Weingefuehl.php
URL:https://www.gustchur.ch/de/kurse/termine/Weingefuehl.php
END:VEVENT
BEGIN:VEVENT
SUMMARY:Weingefühl
DTSTART:20260819T190000
DTEND:20260819T220000
DESCRIPTION:Woher kommen die Aromen im Wein? Was für Inhaltsstoffe hat der Wein? Welche Säure schmeckt wie sauer?
LOCATION:gust
UID:https://www.gustchur.ch/de/kurse/termine/Weingefuehl.php
URL:https://www.gustchur.ch/de/kurse/termine/Weingefuehl.php
END:VEVENT
END:VCALENDAR